{
  "id" : 5542, 
  "name" : "WaterCustInter", 
  "server" : "h5mazShfwc19jeXF", 
  "serviceItemId" : "ceef274663fb487faf091e689e66ab3f", 
  "ownerUserName" : "", 
  "serviceDescription" : "Use to support overlays and queries", 
  "mapName" : "WaterCustInter", 
  "description" : "Use to support overlays and queries", 
  "abstract" : "", 
  "metadataLink" : "", 
  "keywords" : [], 
  "copyrightText" : "credit", 
  "layers" : [
    {
      "id" : 0, 
      "name" : "Manhole", 
      "parentLayerId" : -1, 
      "defaultVisibility" : true, 
      "subLayerIds" : null, 
      "minScale" : 9000, 
      "maxScale" : 0, 
      "type" : "Feature Layer", 
      "geometryType" : "esriGeometryPoint"
    }, 
    {
      "id" : 1, 
      "name" : "Catch Basin", 
      "parentLayerId" : -1, 
      "defaultVisibility" : true, 
      "subLayerIds" : null, 
      "minScale" : 9000, 
      "maxScale" : 0, 
      "type" : "Feature Layer", 
      "geometryType" : "esriGeometryPoint"
    }, 
    {
      "id" : 2, 
      "name" : "Hydrant", 
      "parentLayerId" : -1, 
      "defaultVisibility" : true, 
      "subLayerIds" : null, 
      "minScale" : 9000, 
      "maxScale" : 0, 
      "type" : "Feature Layer", 
      "geometryType" : "esriGeometryPoint"
    }, 
    {
      "id" : 3, 
      "name" : "Capital Project", 
      "parentLayerId" : -1, 
      "defaultVisibility" : true, 
      "subLayerIds" : null, 
      "minScale" : 0, 
      "maxScale" : 0, 
      "type" : "Feature Layer", 
      "geometryType" : "esriGeometryPolygon"
    }, 
    {
      "id" : 4, 
      "name" : "Capital Project", 
      "parentLayerId" : -1, 
      "defaultVisibility" : true, 
      "subLayerIds" : null, 
      "minScale" : 0, 
      "maxScale" : 0, 
      "type" : "Feature Layer", 
      "geometryType" : "esriGeometryPolygon"
    }, 
    {
      "id" : 5, 
      "name" : "wLeaks", 
      "parentLayerId" : -1, 
      "defaultVisibility" : true, 
      "subLayerIds" : null, 
      "minScale" : 0, 
      "maxScale" : 0, 
      "type" : "Feature Layer", 
      "geometryType" : "esriGeometryPoint"
    }, 
    {
      "id" : 6, 
      "name" : "Area", 
      "parentLayerId" : -1, 
      "defaultVisibility" : true, 
      "subLayerIds" : null, 
      "minScale" : 0, 
      "maxScale" : 0, 
      "type" : "Feature Layer", 
      "geometryType" : "esriGeometryPolygon"
    }, 
    {
      "id" : 7, 
      "name" : "Event", 
      "parentLayerId" : -1, 
      "defaultVisibility" : true, 
      "subLayerIds" : null, 
      "minScale" : 175000, 
      "maxScale" : 0, 
      "type" : "Feature Layer", 
      "geometryType" : "esriGeometryPolygon"
    }
  ], 
  "tables" : [], 
  "spatialReference" : {
    "wkid" : 102100, 
    "latestWkid" : 3857
  }, 
  "singleFusedMapCache" : true, 
  "tileInfo" : {"rows":256,"cols":256,"dpi":96,"preciseDpi":96,"format":"PNG","storageFormat":"esriMapCacheStorageModeCompact","packetSize":128,"compressionQuality":0,"antialiasing":true,"origin":{"x":-20037508.342787,"y":20037508.342787},"spatialReference":{"wkid":102100,"latestWkid":3857},"lods":[{"level":0,"resolution":156543.033928,"scale":591657527.591555},{"level":1,"resolution":78271.5169639999,"scale":295828763.795777},{"level":2,"resolution":39135.7584820001,"scale":147914381.897889},{"level":3,"resolution":19567.8792409999,"scale":73957190.948944},{"level":4,"resolution":9783.93962049996,"scale":36978595.474472},{"level":5,"resolution":4891.96981024998,"scale":18489297.737236},{"level":6,"resolution":2445.98490512499,"scale":9244648.868618},{"level":7,"resolution":1222.99245256249,"scale":4622324.434309},{"level":8,"resolution":611.49622628138,"scale":2311162.217155},{"level":9,"resolution":305.748113140558,"scale":1155581.108577},{"level":10,"resolution":152.874056570411,"scale":577790.554289},{"level":11,"resolution":76.4370282850732,"scale":288895.277144},{"level":12,"resolution":38.2185141425366,"scale":144447.638572},{"level":13,"resolution":19.1092570712683,"scale":72223.819286},{"level":14,"resolution":9.55462853563415,"scale":36111.909643},{"level":15,"resolution":4.77731426794937,"scale":18055.954822},{"level":16,"resolution":2.38865713397468,"scale":9027.977411},{"level":17,"resolution":1.19432856685505,"scale":4513.988705},{"level":18,"resolution":0.597164283559817,"scale":2256.994353},{"level":19,"resolution":0.298582141647617,"scale":1128.497176}]}, 
  "minLOD" : 11, 
  "maxLOD" : 19, 
  "initialExtent" : {
    "xmin" : -8945544.13187341, 
    "ymin" : 3178790.2174026011, 
    "xmax" : -8940970.2320884727, 
    "ymax" : 3182520.323083729, 
    "spatialReference" : {
      "wkid" : 102100, 
      "latestWkid" : 3857
    }
  }, 
  "fullExtent" : {
    "xmin" : -8955774.1258525439, 
    "ymin" : 3157230.4113358418, 
    "xmax" : -8927949.1362108346, 
    "ymax" : 3187788.8033151887, 
    "spatialReference" : {
      "wkid" : 102100, 
      "latestWkid" : 3857
    }
  }, 
  "units" : "esriMeters", 
  "supportedImageFormatTypes" : "", 
  "created" : null, 
  "modified" : null, 
  "status" : "created", 
  "access" : "SECURE", 
  "minScale" : 288895.277144, 
  "maxScale" : 1128.497176, 
  "exportTilesAllowed" : false, 
  "maxExportTilesCount" : 100000, 
  "cacheOnDemand" : false, 
  "capabilities" : "Map,TilesOnly,Tilemap", 
  "type" : "MapServer", 
  "currentVersion" : 12
}