<Capabilities xmlns="http://www.opengis.net/wmts/1.0" xmlns:ows="http://www.opengis.net/ows/1.1" xmlns:xlink="http://www.w3.org/1999/xlink" xmlns:xsi="http://www.w3.org/2001/XMLSchema-instance" xmlns:gml="http://www.opengis.net/gml" xsi:schemaLocation="http://www.opengis.net/wmts/1.0 http://schemas.opengis.net/wmts/1.0/wmtsGetCapabilities_response.xsd" version="1.0.0"><!-- Service Identification --> <ows:ServiceIdentification><ows:Title>climate</ows:Title><ows:ServiceType>OGC WMTS</ows:ServiceType><ows:ServiceTypeVersion>1.0.0</ows:ServiceTypeVersion><Abstract xmlns="ows" /><ows:Keywords><Keyword xmlns="ows">One &amp; another &amp;quot; third</Keyword></ows:Keywords></ows:ServiceIdentification><!-- Operations Metadata --><ows:OperationsMetadata><ows:Operation name="GetCapabilities"><ows:DCP><ows:HTTP><ows:Get xlink:href="https://servicesqa.arcgis.com/h5mazShfwc19jeXF/ArcGIS/rest/services/climateFS/MapServer/WMTS/1.0.0/WMTSCapabilities.xml"><ows:Constraint name="GetEncoding"><ows:AllowedValues> <ows:Value>RESTful</ows:Value></ows:AllowedValues></ows:Constraint> </ows:Get><ows:Get xlink:href="https://servicesqa.arcgis.com/h5mazShfwc19jeXF/ArcGIS/rest/services/climateFS/MapServer/WMTS?"> <ows:Constraint name="GetEncoding"><ows:AllowedValues><ows:Value>KVP</ows:Value></ows:AllowedValues></ows:Constraint></ows:Get></ows:HTTP></ows:DCP></ows:Operation><ows:Operation name="GetTile"><ows:DCP><ows:HTTP><ows:Get xlink:href="https://servicesqa.arcgis.com/h5mazShfwc19jeXF/ArcGIS/rest/services/climateFS/MapServer/WMTS/tile/1.0.0/"><ows:Constraint name="GetEncoding"><ows:AllowedValues><ows:Value>RESTful</ows:Value></ows:AllowedValues></ows:Constraint></ows:Get><ows:Get xlink:href="https://servicesqa.arcgis.com/h5mazShfwc19jeXF/ArcGIS/rest/services/climateFS/MapServer/WMTS?"><ows:Constraint name="GetEncoding"><ows:AllowedValues><ows:Value>KVP</ows:Value></ows:AllowedValues></ows:Constraint></ows:Get></ows:HTTP></ows:DCP></ows:Operation></ows:OperationsMetadata><!-- Contents --><Contents><!-- Layer --><Layer><ows:Title>climateFS</ows:Title><ows:Identifier>climateFS</ows:Identifier><ows:BoundingBox crs="urn:ogc:def:crs:EPSG::3857"><ows:LowerCorner>-13090948.1007852 3833108.89618857</ows:LowerCorner><ows:UpperCorner>-12921985.9135885 3963468.2650537</ows:UpperCorner></ows:BoundingBox><ows:WGS84BoundingBox crs="urn:ogc:def:crs:OGC:2:84"><ows:LowerCorner>-117.597987625508 32.5301869919142</ows:LowerCorner><ows:UpperCorner>-116.080174473537 33.512044923929</ows:UpperCorner></ows:WGS84BoundingBox><Style isDefault="true"><ows:Title>Default Style</ows:Title><ows:Identifier>default</ows:Identifier></Style><Format>image/png</Format><TileMatrixSetLink><TileMatrixSet>default028mm</TileMatrixSet></TileMatrixSetLink><ResourceURL format="image/png" resourceType="tile" template="https://servicesqa.arcgis.com/h5mazShfwc19jeXF/ArcGIS/rest/services/climateFS/MapServer/WMTS/tile/1.0.0/climateFS/{Style}/{TileMatrixSet}/{TileMatrix}/{TileRow}/{TileCol}.png"/></Layer><!-- Tile Matrix Set --><TileMatrixSet><ows:Title>TileMatrix using 0.28mm</ows:Title><ows:Abstract>The tile matrix set that has scale values calculated based on the dpi defined by OGC specification (dpi assumes 0.28mm as the physical distance of a pixel).</ows:Abstract><ows:Identifier>default028mm</ows:Identifier><ows:SupportedCRS>urn:ogc:def:crs:EPSG::3857</ows:SupportedCRS><TileMatrix><ows:Identifier>0</ows:Identifier><ScaleDenominator>559081145.864044</ScaleDenominator><TopLeftCorner>-20037508.342787 20037508.342787</TopLeftCorner><TileWidth>256</TileWidth> <TileHeight>256</TileHeight><MatrixWidth>1</MatrixWidth><MatrixHeight>1</MatrixHeight></TileMatrix><TileMatrix><ows:Identifier>1</ows:Identifier><ScaleDenominator>279540572.932021</ScaleDenominator><TopLeftCorner>-20037508.342787 20037508.342787</TopLeftCorner><TileWidth>256</TileWidth> <TileHeight>256</TileHeight><MatrixWidth>1</MatrixWidth><MatrixHeight>1</MatrixHeight></TileMatrix><TileMatrix><ows:Identifier>2</ows:Identifier><ScaleDenominator>139770286.466011</ScaleDenominator><TopLeftCorner>-20037508.342787 20037508.342787</TopLeftCorner><TileWidth>256</TileWidth> <TileHeight>256</TileHeight><MatrixWidth>1</MatrixWidth><MatrixHeight>2</MatrixHeight></TileMatrix><TileMatrix><ows:Identifier>3</ows:Identifier><ScaleDenominator>69885143.2330051</ScaleDenominator><TopLeftCorner>-20037508.342787 20037508.342787</TopLeftCorner><TileWidth>256</TileWidth> <TileHeight>256</TileHeight><MatrixWidth>2</MatrixWidth><MatrixHeight>4</MatrixHeight></TileMatrix><TileMatrix><ows:Identifier>4</ows:Identifier><ScaleDenominator>34942571.6165026</ScaleDenominator><TopLeftCorner>-20037508.342787 20037508.342787</TopLeftCorner><TileWidth>256</TileWidth> <TileHeight>256</TileHeight><MatrixWidth>3</MatrixWidth><MatrixHeight>7</MatrixHeight></TileMatrix><TileMatrix><ows:Identifier>5</ows:Identifier><ScaleDenominator>17471285.8082513</ScaleDenominator><TopLeftCorner>-20037508.342787 20037508.342787</TopLeftCorner><TileWidth>256</TileWidth> <TileHeight>256</TileHeight><MatrixWidth>6</MatrixWidth><MatrixHeight>13</MatrixHeight></TileMatrix><TileMatrix><ows:Identifier>6</ows:Identifier><ScaleDenominator>8735642.90412564</ScaleDenominator><TopLeftCorner>-20037508.342787 20037508.342787</TopLeftCorner><TileWidth>256</TileWidth> <TileHeight>256</TileHeight><MatrixWidth>12</MatrixWidth><MatrixHeight>26</MatrixHeight></TileMatrix><TileMatrix><ows:Identifier>7</ows:Identifier><ScaleDenominator>4367821.45206282</ScaleDenominator><TopLeftCorner>-20037508.342787 20037508.342787</TopLeftCorner><TileWidth>256</TileWidth> <TileHeight>256</TileHeight><MatrixWidth>23</MatrixWidth><MatrixHeight>52</MatrixHeight></TileMatrix><TileMatrix><ows:Identifier>8</ows:Identifier><ScaleDenominator>2183910.72603188</ScaleDenominator><TopLeftCorner>-20037508.342787 20037508.342787</TopLeftCorner><TileWidth>256</TileWidth> <TileHeight>256</TileHeight><MatrixWidth>46</MatrixWidth><MatrixHeight>104</MatrixHeight></TileMatrix><TileMatrix><ows:Identifier>9</ows:Identifier><ScaleDenominator>1091955.36301547</ScaleDenominator><TopLeftCorner>-20037508.342787 20037508.342787</TopLeftCorner><TileWidth>256</TileWidth> <TileHeight>256</TileHeight><MatrixWidth>91</MatrixWidth><MatrixHeight>208</MatrixHeight></TileMatrix><TileMatrix><ows:Identifier>10</ows:Identifier><ScaleDenominator>545977.681508207</ScaleDenominator><TopLeftCorner>-20037508.342787 20037508.342787</TopLeftCorner><TileWidth>256</TileWidth> <TileHeight>256</TileHeight><MatrixWidth>182</MatrixWidth><MatrixHeight>415</MatrixHeight></TileMatrix><TileMatrix><ows:Identifier>11</ows:Identifier><ScaleDenominator>272988.840753631</ScaleDenominator><TopLeftCorner>-20037508.342787 20037508.342787</TopLeftCorner><TileWidth>256</TileWidth> <TileHeight>256</TileHeight><MatrixWidth>364</MatrixWidth><MatrixHeight>829</MatrixHeight></TileMatrix><TileMatrix><ows:Identifier>12</ows:Identifier><ScaleDenominator>136494.420376815</ScaleDenominator><TopLeftCorner>-20037508.342787 20037508.342787</TopLeftCorner><TileWidth>256</TileWidth> <TileHeight>256</TileHeight><MatrixWidth>728</MatrixWidth><MatrixHeight>1657</MatrixHeight></TileMatrix><TileMatrix><ows:Identifier>13</ows:Identifier><ScaleDenominator>68247.2101884077</ScaleDenominator><TopLeftCorner>-20037508.342787 20037508.342787</TopLeftCorner><TileWidth>256</TileWidth> <TileHeight>256</TileHeight><MatrixWidth>1455</MatrixWidth><MatrixHeight>3313</MatrixHeight></TileMatrix><TileMatrix><ows:Identifier>14</ows:Identifier><ScaleDenominator>34123.6050942039</ScaleDenominator><TopLeftCorner>-20037508.342787 20037508.342787</TopLeftCorner><TileWidth>256</TileWidth> <TileHeight>256</TileHeight><MatrixWidth>2910</MatrixWidth><MatrixHeight>6625</MatrixHeight></TileMatrix><TileMatrix><ows:Identifier>15</ows:Identifier><ScaleDenominator>17061.8025475744</ScaleDenominator><TopLeftCorner>-20037508.342787 20037508.342787</TopLeftCorner><TileWidth>256</TileWidth> <TileHeight>256</TileHeight><MatrixWidth>5819</MatrixWidth><MatrixHeight>13250</MatrixHeight></TileMatrix><TileMatrix><ows:Identifier>16</ows:Identifier><ScaleDenominator>8530.9012737872</ScaleDenominator><TopLeftCorner>-20037508.342787 20037508.342787</TopLeftCorner><TileWidth>256</TileWidth> <TileHeight>256</TileHeight><MatrixWidth>11637</MatrixWidth><MatrixHeight>26500</MatrixHeight></TileMatrix><TileMatrix><ows:Identifier>17</ows:Identifier><ScaleDenominator>4265.45063642113</ScaleDenominator><TopLeftCorner>-20037508.342787 20037508.342787</TopLeftCorner><TileWidth>256</TileWidth> <TileHeight>256</TileHeight><MatrixWidth>23273</MatrixWidth><MatrixHeight>53000</MatrixHeight></TileMatrix><TileMatrix><ows:Identifier>18</ows:Identifier><ScaleDenominator>2132.72531868304</ScaleDenominator><TopLeftCorner>-20037508.342787 20037508.342787</TopLeftCorner><TileWidth>256</TileWidth> <TileHeight>256</TileHeight><MatrixWidth>46545</MatrixWidth><MatrixHeight>105999</MatrixHeight></TileMatrix><TileMatrix><ows:Identifier>19</ows:Identifier><ScaleDenominator>1066.36265886905</ScaleDenominator><TopLeftCorner>-20037508.342787 20037508.342787</TopLeftCorner><TileWidth>256</TileWidth> <TileHeight>256</TileHeight><MatrixWidth>93090</MatrixWidth><MatrixHeight>211997</MatrixHeight></TileMatrix></TileMatrixSet></Contents><ServiceMetadataURL xlink:href="https://servicesqa.arcgis.com/h5mazShfwc19jeXF/ArcGIS/rest/services/climateFS/MapServer/WMTS/1.0.0/WMTSCapabilities.xml"/></Capabilities>